BEGIN:VCALENDAR
VERSION:2.0
PRODID:-//eventon.com NONSGML v1.0//EN
CALSCALE:GREGORIAN
METHOD:PUBLISH
BEGIN:VEVENT
UID:69e8a076009a7
DTSTAMP:20260422T121830
DTSTART:20240123T163000Z
DTEND:20240123T183000Z
TZID:Europe/Paris
LOCATION:
SUMMARY:Réunion groupe de travail - projet associatif
DESCRIPTION: Réunion groupe de travail - projet associatif\nhttps://www.jardindescimes.com/fr/events/reunion-groupe-de-travail-projet-associatif/
URL:https://www.jardindescimes.com/fr/events/reunion-groupe-de-travail-projet-associatif/
END:VEVENT
END:VCALENDAR