BEGIN:VCALENDAR
VERSION:2.0
PRODID:-//eventon.com NONSGML v1.0//EN
CALSCALE:GREGORIAN
METHOD:PUBLISH
BEGIN:VEVENT
UID:69eca751f2670
DTSTAMP:20260425T133649
DTSTART:20240713T160000Z
DTEND:20240713T173000Z
TZID:Europe/Paris
LOCATION:Jardin des Cimes 447 Route du Dr Davy\,  74190 Plateau d'Assy
SUMMARY:ATELIER DÉCOUVERTE MÉDECINE TRADITIONNELLE CHINOISE
DESCRIPTION: Elodie et Antoine vous proposent un atelier pour découvrir quelques principes fondamentaux de la médecine traditionnelle Chinoise\,  en fonction des saisons et des organes associés. La séance se terminera avec des auto-massages sur les méridiens et les points d’acupuncture adaptés à la saison. Equipement nécessaire : &#8211; Age du public[..]\nhttps://www.jardindescimes.com/fr/events/atelier-decouverte-medecine-traditionnelle-chinoise/
URL:https://www.jardindescimes.com/fr/events/atelier-decouverte-medecine-traditionnelle-chinoise/
END:VEVENT
END:VCALENDAR