BEGIN:VCALENDAR
VERSION:2.0
PRODID:-//eventon.com NONSGML v1.0//EN
CALSCALE:GREGORIAN
METHOD:PUBLISH
BEGIN:VEVENT
UID:69ebde036d541
DTSTAMP:20260424T231755
DTSTART:20240726T123000Z
DTEND:20240726T150000Z
TZID:Europe/Paris
LOCATION:Jardin des Cimes 447 Route du Dr Davy\,  74190 Plateau d'Assy
SUMMARY:LES HUILES ESSENTIELLES : DÉCOUVERTE POUR UNE UTILISATION SEREINE
DESCRIPTION: Venez découvrir le monde fascinant des huiles essentielles et leurs précautions d&rsquo;usage pour une utilisation en toute confiance ! Comment acheter une HE top qualité ? Quelles sont les 8 HE indispensables ? et fabriquez une synergie aromatique. Type d&rsquo;activité : Bien être &#8211; activité encadrée Équipement nécessaire : Papier[..]\nhttps://www.jardindescimes.com/fr/events/venez-decouvrir-le-monde-fascinant-des-huiles-essentielles-et-leurs-precautions-dusage-pour-une-utilisation-en-toute-confiance/
URL:https://www.jardindescimes.com/fr/events/venez-decouvrir-le-monde-fascinant-des-huiles-essentielles-et-leurs-precautions-dusage-pour-une-utilisation-en-toute-confiance/
END:VEVENT
END:VCALENDAR