BEGIN:VCALENDAR
VERSION:2.0
PRODID:-//eventon.com NONSGML v1.0//EN
CALSCALE:GREGORIAN
METHOD:PUBLISH
BEGIN:VEVENT
UID:69ed41eece494
DTSTAMP:20260426T003630
DTSTART:20240804T090000Z
DTEND:20240804T100000Z
TZID:Europe/Paris
LOCATION:Jardin des Cimes 447 Route du Dr Davy\,  74190 Plateau d'Assy
SUMMARY:INAUGURATION DE L'OEUVRE DE L'ARTISTE SARAH LEVEQUE
DESCRIPTION: Nous vous invitons à l&rsquo;inauguration de l&rsquo;oeuvre réalisée dans le cadre de la résidence ARTIFEX IN HORTO\,  qui s&rsquo;est déroulée les 2 dernières semaines de juillet avec l&rsquo;artiste Sarah Levêque\,  ce dimanche 4 août 2024 à 11h00 au Jardin des Cimes. Artifex in Horto est un projet de résidence d’artiste\, [..]\nhttps://www.jardindescimes.com/fr/events/residence-dartiste-artifex-in-horto-2024/
URL:https://www.jardindescimes.com/fr/events/residence-dartiste-artifex-in-horto-2024/
END:VEVENT
END:VCALENDAR