BEGIN:VCALENDAR
VERSION:2.0
PRODID:-//eventon.com NONSGML v1.0//EN
CALSCALE:GREGORIAN
METHOD:PUBLISH
BEGIN:VEVENT
UID:69ea2f5d9b16c
DTSTAMP:20260423T164029
DTSTART:20260712T073000Z
DTEND:20260712T083000Z
TZID:Europe/Paris
LOCATION:Jardin des Cimes 447 Route du Dr Davy\,  74190 Plateau d'Assy
SUMMARY:DO IN : APPRENDRE A S'AUTOMASSER
DESCRIPTION: Découvrez le DO-IN avec Najma ALI-MOUSSA\,  une pratique d&rsquo;automassage énergétique qui permet de détendre le corps grâce à des pressions sur les méridiens et à des étirements accompagnés par la respiration.Si vous avez de petites douleurs\,  si vous êtes fatigué\,  si vous avez des tensions musculaires ou si vous êtes[..]\nhttps://www.jardindescimes.com/fr/events/do-in-apprendre-a-sautomasser/
URL:https://www.jardindescimes.com/fr/events/do-in-apprendre-a-sautomasser/
END:VEVENT
END:VCALENDAR