BEGIN:VCALENDAR
VERSION:2.0
PRODID:-//eventon.com NONSGML v1.0//EN
CALSCALE:GREGORIAN
METHOD:PUBLISH
BEGIN:VEVENT
UID:69e641dd10226
DTSTAMP:20260420T171021
DTSTART:20240819T163000Z
DTEND:20240819T173000Z
TZID:Europe/Paris
LOCATION:Jardin des Cimes 447 Route du Dr Davy\,  74190 Plateau d'Assy
SUMMARY:Yoga au jardin
DESCRIPTION: Nous allons passer une heure ensemble pour étirer notre corps\,  bouger\,  se détendre et se reconnecter à notre « moi » intérieur. On définit le yoga Vinyasa comme un enchaînement de mouvements dynamiques\,  initié et harmonisé par la respiration. Il a de nombreux avantages pour le corps tels que : la force\, [..]\nhttps://www.jardindescimes.com/fr/events/yoga/var/ri-10.l-L1
URL:https://www.jardindescimes.com/fr/events/yoga/var/ri-10.l-L1
END:VEVENT
END:VCALENDAR