BEGIN:VCALENDAR
VERSION:2.0
PRODID:-//eventon.com NONSGML v1.0//EN
CALSCALE:GREGORIAN
METHOD:PUBLISH
BEGIN:VEVENT
UID:69e5f17c565bb
DTSTAMP:20260420T112724
DTSTART:20210801T070000Z
DTEND:20210801T103000Z
TZID:Europe/Paris
LOCATION:
SUMMARY:Apprendre à confectionner des huiles de massage
DESCRIPTION: Nous apprendrons à confectionner de façon individualisée une huile de massage bien-être aux huiles végétales et aux huiles essentielles en fonction des caractéristiques choisies. Chacun repartira avec une huile de massage individualisée ainsi qu&rsquo;un document récapitulant quelques notions de base pour en confectionner de nouveau à la maison avec le[..]\nhttps://www.jardindescimes.com/fr/events/apprendre-a-confectionner-des-huiles-de-massage/
URL:https://www.jardindescimes.com/fr/events/apprendre-a-confectionner-des-huiles-de-massage/
END:VEVENT
END:VCALENDAR