BEGIN:VCALENDAR
VERSION:2.0
PRODID:-//eventon.com NONSGML v1.0//EN
CALSCALE:GREGORIAN
METHOD:PUBLISH
BEGIN:VEVENT
UID:69e7486c48013
DTSTAMP:20260421T115036
DTSTART:20220813T140000Z
DTEND:20220813T150000Z
TZID:Europe/Paris
LOCATION:Jardin des Cimes 447 Route du Dr Davy\,  74190 Plateau d'Assy
SUMMARY:LES TROIS PETITS VIEUX QUI NE VOULAIENT PAS MOURIR
DESCRIPTION: Ernest\,  Stanislas et Désiré sont trois vieilles canailles copains comme cochons à qui on ne la fait plus. Un beau matin\,  alors qu’ils dérouillaient tranquillement leurs vieux os au soleil prêts à attaquer la journée en trio\,  un courrier étrange tombe dans leur boîte aux lettres. « Chers Ernest\,  Stanislas[..]\nhttps://www.jardindescimes.com/fr/events/les-trois-petits-vieux-qui-ne-voulaient-pas-mourir/
URL:https://www.jardindescimes.com/fr/events/les-trois-petits-vieux-qui-ne-voulaient-pas-mourir/
END:VEVENT
END:VCALENDAR