BEGIN:VCALENDAR
VERSION:2.0
PRODID:-//eventon.com NONSGML v1.0//EN
CALSCALE:GREGORIAN
METHOD:PUBLISH
BEGIN:VEVENT
UID:69eb8b5a47b57
DTSTAMP:20260424T172514
DTSTART:20230603T120000Z
DTEND:20230603T150000Z
TZID:Europe/Paris
LOCATION:Jardin des Cimes 447 Route du Dr Davy\,  74190 Plateau d'Assy
SUMMARY:DECOUVERTE DE L'ALAMBIC ET DE LA DISTILLATION D'EAU FLORALE ET D' HUILE ESSENTIELLE
DESCRIPTION: Découvrez le fonctionnement et l&rsquo;histoire de cet « instrument des Alchimistes »\, l&rsquo;utilisation des huiles essentielles et des hydrolats depuis les Égyptiensjusqu&rsquo;à nos jours\,  au frontière du parfum\,  de la santé\,  des rites religieux et magiques. Nous réaliserons ensembles une distillation: quelles plantes\,  comment récolter\,  quelles propriétés\,  comment distiller…Vous repartirez en plus à[..]\nhttps://www.jardindescimes.com/fr/events/decouverte-de-lalambic-et-de-la-distillation-deau-florale-et-d-huile-essentielle/
URL:https://www.jardindescimes.com/fr/events/decouverte-de-lalambic-et-de-la-distillation-deau-florale-et-d-huile-essentielle/
END:VEVENT
END:VCALENDAR