BEGIN:VCALENDAR
VERSION:2.0
PRODID:-//eventon.com NONSGML v1.0//EN
CALSCALE:GREGORIAN
METHOD:PUBLISH
BEGIN:VEVENT
UID:69e8fc456b408
DTSTAMP:20260422T185013
DTSTART:20230405T170000Z
DTEND:20230405T190000Z
TZID:Europe/Paris
LOCATION:
SUMMARY:Conseil d'administration
DESCRIPTION: Conseil d'administration\nhttps://www.jardindescimes.com/fr/events/conseil-dadministration/
URL:https://www.jardindescimes.com/fr/events/conseil-dadministration/
END:VEVENT
END:VCALENDAR